BEGIN:VCALENDAR
VERSION:2.0
PRODID:-//Site de la commune du Bernard - ECPv5.14.1//NONSGML v1.0//EN
CALSCALE:GREGORIAN
METHOD:PUBLISH
X-WR-CALNAME:Site de la commune du Bernard
X-ORIGINAL-URL:https://www.lebernard.fr
X-WR-CALDESC:évènements pour Site de la commune du Bernard
BEGIN:VTIMEZONE
TZID:Europe/Paris
BEGIN:DAYLIGHT
TZOFFSETFROM:+0100
TZOFFSETTO:+0200
TZNAME:CEST
DTSTART:20250330T010000
END:DAYLIGHT
BEGIN:STANDARD
TZOFFSETFROM:+0200
TZOFFSETTO:+0100
TZNAME:CET
DTSTART:20251026T010000
END:STANDARD
END:VTIMEZONE
BEGIN:VEVENT
DTSTART;TZID=Europe/Paris:20250503T140000
DTEND;TZID=Europe/Paris:20250503T180000
DTSTAMP:20260423T232625
CREATED:20250404T084313Z
LAST-MODIFIED:20250404T084313Z
UID:8934-1746280800-1746295200@www.lebernard.fr
SUMMARY:Exposition vente Fête des mères - Passion Déco
DESCRIPTION:
URL:https://www.lebernard.fr/evenement/exposition-vente-fete-des-meres-passion-deco/
LOCATION:Salle du Conseil – Mairie\, 2 rue Albert Deman\, Le Bernard\, 85560\, France
ATTACH;FMTTYPE=image/jpeg:https://www.lebernard.fr/wp-content/uploads/2025/03/AFFICHE-FETE-DES-MERES-2025_page-0001.jpg
END:VEVENT
END:VCALENDAR