BEGIN:VCALENDAR
VERSION:2.0
PRODID:-//Site de la commune du Bernard - ECPv5.14.1//NONSGML v1.0//EN
CALSCALE:GREGORIAN
METHOD:PUBLISH
X-WR-CALNAME:Site de la commune du Bernard
X-ORIGINAL-URL:https://www.lebernard.fr
X-WR-CALDESC:évènements pour Site de la commune du Bernard
BEGIN:VTIMEZONE
TZID:Europe/Paris
BEGIN:DAYLIGHT
TZOFFSETFROM:+0100
TZOFFSETTO:+0200
TZNAME:CEST
DTSTART:20250330T010000
END:DAYLIGHT
BEGIN:STANDARD
TZOFFSETFROM:+0200
TZOFFSETTO:+0100
TZNAME:CET
DTSTART:20251026T010000
END:STANDARD
END:VTIMEZONE
BEGIN:VEVENT
DTSTART;TZID=Europe/Paris:20250520T203000
DTEND;TZID=Europe/Paris:20250520T220000
DTSTAMP:20260423T232619
CREATED:20250519T074556Z
LAST-MODIFIED:20250519T074618Z
UID:9088-1747773000-1747778400@www.lebernard.fr
SUMMARY:CONSEIL MUNICIPAL -  20H30
DESCRIPTION:ordre du jour \n 
URL:https://www.lebernard.fr/evenement/conseil-municipal-20-mai-20h30/
LOCATION:Salle du Conseil – Mairie\, 2 rue Albert Deman\, Le Bernard\, 85560\, France
ATTACH;FMTTYPE=image/jpeg:https://www.lebernard.fr/wp-content/uploads/2023/11/CONSEIL-MUNICIPAL.jpg
ORGANIZER;CN="MAIRIE%20LE%20BERNARD":MAILTO:mairie@lebernard.fr
END:VEVENT
END:VCALENDAR