BEGIN:VCALENDAR
VERSION:2.0
PRODID:-//Site de la commune du Bernard - ECPv5.14.1//NONSGML v1.0//EN
CALSCALE:GREGORIAN
METHOD:PUBLISH
X-WR-CALNAME:Site de la commune du Bernard
X-ORIGINAL-URL:https://www.lebernard.fr
X-WR-CALDESC:évènements pour Site de la commune du Bernard
BEGIN:VTIMEZONE
TZID:Europe/Paris
BEGIN:DAYLIGHT
TZOFFSETFROM:+0100
TZOFFSETTO:+0200
TZNAME:CEST
DTSTART:20250330T010000
END:DAYLIGHT
BEGIN:STANDARD
TZOFFSETFROM:+0200
TZOFFSETTO:+0100
TZNAME:CET
DTSTART:20251026T010000
END:STANDARD
END:VTIMEZONE
BEGIN:VEVENT
DTSTART;TZID=Europe/Paris:20250614T193000
DTEND;TZID=Europe/Paris:20250614T223000
DTSTAMP:20260423T214229
CREATED:20250331T143610Z
LAST-MODIFIED:20250519T074816Z
UID:8921-1749929400-1749940200@www.lebernard.fr
SUMMARY:MASTER CLASS ZUMBA ET SOIREE MOULES FRITES
DESCRIPTION:
URL:https://www.lebernard.fr/evenement/master-class-zumba-et-soiree-moules-frites/
LOCATION:Salle Bois Plaisant\, 21 rue des Dolmens\, LE BERNARD\, 85560\, France
ATTACH;FMTTYPE=image/jpeg:https://www.lebernard.fr/wp-content/uploads/2025/03/1747131642510.jpg
END:VEVENT
END:VCALENDAR