BEGIN:VCALENDAR
VERSION:2.0
PRODID:-//Site de la commune du Bernard - ECPv5.14.1//NONSGML v1.0//EN
CALSCALE:GREGORIAN
METHOD:PUBLISH
X-WR-CALNAME:Site de la commune du Bernard
X-ORIGINAL-URL:https://www.lebernard.fr
X-WR-CALDESC:évènements pour Site de la commune du Bernard
BEGIN:VTIMEZONE
TZID:Europe/Paris
BEGIN:DAYLIGHT
TZOFFSETFROM:+0100
TZOFFSETTO:+0200
TZNAME:CEST
DTSTART:20250330T010000
END:DAYLIGHT
BEGIN:STANDARD
TZOFFSETFROM:+0200
TZOFFSETTO:+0100
TZNAME:CET
DTSTART:20251026T010000
END:STANDARD
END:VTIMEZONE
BEGIN:VEVENT
DTSTART;TZID=Europe/Paris:20250615T100000
DTEND;TZID=Europe/Paris:20250615T190000
DTSTAMP:20260423T214342
CREATED:20250331T150347Z
LAST-MODIFIED:20250505T152253Z
UID:8924-1749981600-1750014000@www.lebernard.fr
SUMMARY:LE BERN'ARTS MARCHE DE CREATEURS
DESCRIPTION:Marché de Créateurs : 4ème éditions du Bern’Arts. \nCréateurs exposants : Pour tous renseignements\, contactez la mairie au 02 51 33 30 69 ou par mail à mairie@lebernard.fr \n  \nFormulaire d’inscription des artisans locaux :Courrier aux créateurs Formulaire d’inscription Règlement intérieur
URL:https://www.lebernard.fr/evenement/le-bernarts-marche-de-createurs-3/
LOCATION:Place de l’Abbé Baudry\, Rue du Centre\, LE Bernard\, 85560\, France
ATTACH;FMTTYPE=image/png:https://www.lebernard.fr/wp-content/uploads/2025/03/marchE-des-crEateurs-3.png
ORGANIZER;CN="MAIRIE%20LE%20BERNARD":MAILTO:mairie@lebernard.fr
END:VEVENT
END:VCALENDAR