BEGIN:VCALENDAR
VERSION:2.0
PRODID:-//Site de la commune du Bernard - ECPv5.14.1//NONSGML v1.0//EN
CALSCALE:GREGORIAN
METHOD:PUBLISH
X-WR-CALNAME:Site de la commune du Bernard
X-ORIGINAL-URL:https://www.lebernard.fr
X-WR-CALDESC:évènements pour Site de la commune du Bernard
BEGIN:VTIMEZONE
TZID:Europe/Paris
BEGIN:DAYLIGHT
TZOFFSETFROM:+0100
TZOFFSETTO:+0200
TZNAME:CEST
DTSTART:20260329T010000
END:DAYLIGHT
BEGIN:STANDARD
TZOFFSETFROM:+0200
TZOFFSETTO:+0100
TZNAME:CET
DTSTART:20261025T010000
END:STANDARD
END:VTIMEZONE
BEGIN:VEVENT
DTSTART;VALUE=DATE:20260124
DTEND;VALUE=DATE:20260125
DTSTAMP:20260423T110612
CREATED:20251216T100343Z
LAST-MODIFIED:20251216T100343Z
UID:9414-1769212800-1769299199@www.lebernard.fr
SUMMARY:Galette des Rois
DESCRIPTION:
URL:https://www.lebernard.fr/evenement/galette-des-rois/
LOCATION:Salle Bois Plaisant\, 21 rue des Dolmens\, LE BERNARD\, 85560\, France
END:VEVENT
END:VCALENDAR