BEGIN:VCALENDAR
VERSION:2.0
PRODID:-//Site de la commune du Bernard - ECPv5.14.1//NONSGML v1.0//EN
CALSCALE:GREGORIAN
METHOD:PUBLISH
X-WR-CALNAME:Site de la commune du Bernard
X-ORIGINAL-URL:https://www.lebernard.fr
X-WR-CALDESC:évènements pour Site de la commune du Bernard
BEGIN:VTIMEZONE
TZID:Europe/Paris
BEGIN:DAYLIGHT
TZOFFSETFROM:+0100
TZOFFSETTO:+0200
TZNAME:CEST
DTSTART:20260329T010000
END:DAYLIGHT
BEGIN:STANDARD
TZOFFSETFROM:+0200
TZOFFSETTO:+0100
TZNAME:CET
DTSTART:20261025T010000
END:STANDARD
END:VTIMEZONE
BEGIN:VEVENT
DTSTART;TZID=Europe/Paris:20260302T080000
DTEND;TZID=Europe/Paris:20260330T170000
DTSTAMP:20260421T071542
CREATED:20251216T095953Z
LAST-MODIFIED:20251216T095954Z
UID:9408-1772438400-1774890000@www.lebernard.fr
SUMMARY:Exposition Nature Révélée
DESCRIPTION:
URL:https://www.lebernard.fr/evenement/exposition-nature-revelee/
LOCATION:Médiathèque Arthur TORTEREAU\, rue des Dolmens\, LE BERNARD\, 85560
ATTACH;FMTTYPE=image/jpeg:https://www.lebernard.fr/wp-content/uploads/2025/12/Affiche-A3-expo-nature-revelee-PERROTIN-LE-BERNARD-Mediatheque-scaled.jpg
END:VEVENT
BEGIN:VEVENT
DTSTART;TZID=Europe/Paris:20260326T080000
DTEND;TZID=Europe/Paris:20260326T213000
DTSTAMP:20260421T071542
CREATED:20260324T081157Z
LAST-MODIFIED:20260324T081230Z
UID:9622-1774512000-1774560600@www.lebernard.fr
SUMMARY:Conseil municipal
DESCRIPTION:L’ordre du jour sera le suivant : \n1. Création des commissions communales et élections des membres \n2. Centre Communal d’Action Sociale: Fixation du nombre des membres du Conseil d’Administration et élection des représentants du Conseil Municipal \n3. Commission Communale des Impôts Directs (CCID) \n4. Constitution de la Commission d’Appel d’Offres \n5. Commission de délégation de service public : Fixation des conditions de dépôt des listes et élection des membres \n6. Délégations d’attributions du Conseil Municipal au Maire \n7. Indemnités de fonction aux élus \n8. Orientations en matière de formation des élus \n9. Représentation de la Commune au Comité Territorial de l’Énergie du Talmondais en vue de l’élection Syndical du Sydev \n10. Représentation de la Commune au SIVOS GENDARMERIE \n11. Représentation de la Commune au SIVU SECTEUR SCOLAIRE \nQUESTIONS DIVERSES.
URL:https://www.lebernard.fr/evenement/conseil-municipal-50/
LOCATION:mairie\, 2 rue Albert Deman\, LE BERNARD\, 85560
END:VEVENT
BEGIN:VEVENT
DTSTART;TZID=Europe/Paris:20260326T150000
DTEND;TZID=Europe/Paris:20260326T170000
DTSTAMP:20260421T071542
CREATED:20251216T101625Z
LAST-MODIFIED:20251216T101625Z
UID:9430-1774537200-1774544400@www.lebernard.fr
SUMMARY:Quiz
DESCRIPTION:
URL:https://www.lebernard.fr/evenement/quiz-3/
LOCATION:Salle Bois Plaisant\, 21 rue des Dolmens\, LE BERNARD\, 85560\, France
END:VEVENT
END:VCALENDAR