BEGIN:VCALENDAR
VERSION:2.0
PRODID:-//Site de la commune du Bernard - ECPv5.14.1//NONSGML v1.0//EN
CALSCALE:GREGORIAN
METHOD:PUBLISH
X-WR-CALNAME:Site de la commune du Bernard
X-ORIGINAL-URL:https://www.lebernard.fr
X-WR-CALDESC:évènements pour Site de la commune du Bernard
BEGIN:VTIMEZONE
TZID:Europe/Paris
BEGIN:DAYLIGHT
TZOFFSETFROM:+0100
TZOFFSETTO:+0200
TZNAME:CEST
DTSTART:20260329T010000
END:DAYLIGHT
BEGIN:STANDARD
TZOFFSETFROM:+0200
TZOFFSETTO:+0100
TZNAME:CET
DTSTART:20261025T010000
END:STANDARD
END:VTIMEZONE
BEGIN:VEVENT
DTSTART;TZID=Europe/Paris:20260302T080000
DTEND;TZID=Europe/Paris:20260330T170000
DTSTAMP:20260421T071235
CREATED:20251216T095953Z
LAST-MODIFIED:20251216T095954Z
UID:9408-1772438400-1774890000@www.lebernard.fr
SUMMARY:Exposition Nature Révélée
DESCRIPTION:
URL:https://www.lebernard.fr/evenement/exposition-nature-revelee/
LOCATION:Médiathèque Arthur TORTEREAU\, rue des Dolmens\, LE BERNARD\, 85560
ATTACH;FMTTYPE=image/jpeg:https://www.lebernard.fr/wp-content/uploads/2025/12/Affiche-A3-expo-nature-revelee-PERROTIN-LE-BERNARD-Mediatheque-scaled.jpg
END:VEVENT
BEGIN:VEVENT
DTSTART;VALUE=DATE:20260328
DTEND;VALUE=DATE:20260329
DTSTAMP:20260421T071235
CREATED:20251216T101727Z
LAST-MODIFIED:20251216T101727Z
UID:9432-1774656000-1774742399@www.lebernard.fr
SUMMARY:Repas de printemps des ainés
DESCRIPTION:
URL:https://www.lebernard.fr/evenement/repas-de-printemps-des-aines/
LOCATION:Salle Bois Plaisant\, 21 rue des Dolmens\, LE BERNARD\, 85560\, France
END:VEVENT
END:VCALENDAR