BEGIN:VCALENDAR
VERSION:2.0
PRODID:-//Site de la commune du Bernard - ECPv5.14.1//NONSGML v1.0//EN
CALSCALE:GREGORIAN
METHOD:PUBLISH
X-WR-CALNAME:Site de la commune du Bernard
X-ORIGINAL-URL:https://www.lebernard.fr
X-WR-CALDESC:évènements pour Site de la commune du Bernard
BEGIN:VTIMEZONE
TZID:Europe/Paris
BEGIN:DAYLIGHT
TZOFFSETFROM:+0100
TZOFFSETTO:+0200
TZNAME:CEST
DTSTART:20260329T010000
END:DAYLIGHT
BEGIN:STANDARD
TZOFFSETFROM:+0200
TZOFFSETTO:+0100
TZNAME:CET
DTSTART:20261025T010000
END:STANDARD
END:VTIMEZONE
BEGIN:VEVENT
DTSTART;TZID=Europe/Paris:20260404T140000
DTEND;TZID=Europe/Paris:20260414T170000
DTSTAMP:20260421T053315
CREATED:20260317T104650Z
LAST-MODIFIED:20260330T083654Z
UID:9612-1775311200-1776186000@www.lebernard.fr
SUMMARY:Exposition Visages de la résistance
DESCRIPTION:
URL:https://www.lebernard.fr/evenement/exposition/
LOCATION:mairie\, 2 rue Albert Deman\, LE BERNARD\, 85560
END:VEVENT
END:VCALENDAR