BEGIN:VCALENDAR
VERSION:2.0
PRODID:-//Site de la commune du Bernard - ECPv5.14.1//NONSGML v1.0//EN
CALSCALE:GREGORIAN
METHOD:PUBLISH
X-WR-CALNAME:Site de la commune du Bernard
X-ORIGINAL-URL:https://www.lebernard.fr
X-WR-CALDESC:évènements pour Site de la commune du Bernard
BEGIN:VTIMEZONE
TZID:Europe/Paris
BEGIN:DAYLIGHT
TZOFFSETFROM:+0100
TZOFFSETTO:+0200
TZNAME:CEST
DTSTART:20260329T010000
END:DAYLIGHT
BEGIN:STANDARD
TZOFFSETFROM:+0200
TZOFFSETTO:+0100
TZNAME:CET
DTSTART:20261025T010000
END:STANDARD
END:VTIMEZONE
BEGIN:VEVENT
DTSTART;TZID=Europe/Paris:20260419T100000
DTEND;TZID=Europe/Paris:20260419T120000
DTSTAMP:20260421T054743
CREATED:20260317T104850Z
LAST-MODIFIED:20260317T104851Z
UID:9618-1776592800-1776600000@www.lebernard.fr
SUMMARY:TROC PLANTES
DESCRIPTION:
URL:https://www.lebernard.fr/evenement/troc-plantes/
LOCATION:PARC DE LA MAIRIE\, 2 RUE ALBERT DEMAN\, LE BERNARD\, 85560
ORGANIZER;CN="Conseil%20Municipal%20des%20Enfants":MAILTO:mairie@lebernard.fr
END:VEVENT
END:VCALENDAR