BEGIN:VCALENDAR
VERSION:2.0
PRODID:-//Site de la commune du Bernard - ECPv5.14.1//NONSGML v1.0//EN
CALSCALE:GREGORIAN
METHOD:PUBLISH
X-WR-CALNAME:Site de la commune du Bernard
X-ORIGINAL-URL:https://www.lebernard.fr
X-WR-CALDESC:évènements pour Site de la commune du Bernard
BEGIN:VTIMEZONE
TZID:Europe/Paris
BEGIN:DAYLIGHT
TZOFFSETFROM:+0100
TZOFFSETTO:+0200
TZNAME:CEST
DTSTART:20250330T010000
END:DAYLIGHT
BEGIN:STANDARD
TZOFFSETFROM:+0200
TZOFFSETTO:+0100
TZNAME:CET
DTSTART:20251026T010000
END:STANDARD
END:VTIMEZONE
BEGIN:VEVENT
DTSTART;TZID=Europe/Paris:20250619T150000
DTEND;TZID=Europe/Paris:20250619T170000
DTSTAMP:20260423T214055
CREATED:20250613T084206Z
LAST-MODIFIED:20250613T084206Z
UID:9127-1750345200-1750352400@www.lebernard.fr
SUMMARY:Quiz ouvert à tous !
DESCRIPTION:
URL:https://www.lebernard.fr/evenement/quiz-ouvert-a-tous-3/
LOCATION:Salle Bois Plaisant\, 21 rue des Dolmens\, LE BERNARD\, 85560\, France
ATTACH;FMTTYPE=image/jpeg:https://www.lebernard.fr/wp-content/uploads/2025/06/Quiz-19-juin-a-15h-17h-scaled.jpg
END:VEVENT
END:VCALENDAR